BEGIN:VCALENDAR
PRODID:-//eluceo/ical//2.0/EN
VERSION:2.0
CALSCALE:GREGORIAN
BEGIN:VEVENT
UID:d3807c7138c9d670c0b47a372e0e755f
DTSTAMP:20260425T124131Z
SUMMARY:6. ICC Austria Jour fixe
DESCRIPTION:Webseite: https://us06web.zoom.us/j/89034801198?pwd=Kt0Is3aZg3F
 b84O4Be8EgMBlIoFa13.1
URL:https://icc.rotary.at/de/agenda/show/145224
DTSTART;TZID=Europe/Zurich:20260617T190000
DTEND;TZID=Europe/Zurich:20260617T200000
LOCATION:Zoom
CATEGORIES:Rotary
END:VEVENT
BEGIN:VTIMEZONE
TZID:Europe/Zurich
BEGIN:DAYLIGHT
DTSTART:20260617T190000
TZNAME:CEST
TZOFFSETTO:+0200
TZOFFSETFROM:+0200
END:DAYLIGHT
END:VTIMEZONE
END:VCALENDAR
