BEGIN:VCALENDAR
PRODID:-//eluceo/ical//2.0/EN
VERSION:2.0
CALSCALE:GREGORIAN
BEGIN:VEVENT
UID:1a827e1f737f5aa65b46eeb5d3f370e1
DTSTAMP:20260420T004808Z
SUMMARY:European Commission - Vortrag mit Renate Weissenhorn
DESCRIPTION:Referenten/innen: Renate Weissenhorn 
URL:https://klosterneuburg-wien.rotaract.at/de/agenda/show/145273
DTSTART;TZID=Europe/Zurich:20260219T180000
DTEND;TZID=Europe/Zurich:20260219T200000
LOCATION:Schönbrunner Str. 297\, 1120 Wien - Stiege 1 5. Stock
CATEGORIES:Rotaract
END:VEVENT
BEGIN:VTIMEZONE
TZID:Europe/Zurich
BEGIN:STANDARD
DTSTART:20260219T180000
TZNAME:CET
TZOFFSETTO:+0100
TZOFFSETFROM:+0100
END:STANDARD
END:VTIMEZONE
END:VCALENDAR
